Package: CAGEr Version: 2.11.3 Command: rm -rf CAGEr.buildbin-libdir && mkdir CAGEr.buildbin-libdir && F:\biocbuild\bbs-3.20-bioc\R\bin\R.exe CMD INSTALL --build --library=CAGEr.buildbin-libdir CAGEr_2.11.3.tar.gz StartedAt: 2024-06-10 13:03:56 -0400 (Mon, 10 Jun 2024) EndedAt: 2024-06-10 13:07:12 -0400 (Mon, 10 Jun 2024) EllapsedTime: 196.8 seconds RetCode: 0 Status: OK PackageFile: CAGEr_2.11.3.zip PackageFileSize: 2.759 MiB