Package: CAGEr Version: 2.12.0 Command: /home/biocbuild/bbs-3.20-bioc/R/bin/R CMD INSTALL CAGEr StartedAt: 2025-01-30 15:38:38 -0500 (Thu, 30 Jan 2025) EndedAt: 2025-01-30 15:40:02 -0500 (Thu, 30 Jan 2025) EllapsedTime: 83.9 seconds RetCode: 0 Status: OK