Package: CAGEr Version: 2.12.0 Command: /home/biocbuild/bbs-3.20-bioc/R/bin/R CMD check --install=check:CAGEr.install-out.txt --library=/home/biocbuild/bbs-3.20-bioc/R/site-library --timings CAGEr_2.12.0.tar.gz StartedAt: 2025-01-30 20:30:23 -0500 (Thu, 30 Jan 2025) EndedAt: 2025-01-30 20:42:23 -0500 (Thu, 30 Jan 2025) EllapsedTime: 719.8 seconds RetCode: 0 Status: OK CheckDir: CAGEr.Rcheck Warnings: 0