Package: CAGEr Version: 2.12.0 Command: rm -rf CAGEr.buildbin-libdir && mkdir CAGEr.buildbin-libdir && /Users/biocbuild/BBS/utils/build-universal.sh CAGEr_2.12.0.tar.gz /Library/Frameworks/R.framework/Resources/bin/R CAGEr.buildbin-libdir StartedAt: 2025-01-31 12:27:37 -0500 (Fri, 31 Jan 2025) EndedAt: 2025-01-31 12:30:04 -0500 (Fri, 31 Jan 2025) EllapsedTime: 146.8 seconds RetCode: 0 Status: OK PackageFile: CAGEr_2.12.0.tgz PackageFileSize: 3.055 MiB