Package: CAFE Version: 1.44.0 Command: chmod a+r CAFE -R && E:\biocbuild\bbs-3.21-bioc\R\bin\R.exe CMD build --keep-empty-dirs --no-resave-data CAFE StartedAt: 2025-08-14 17:48:13 -0400 (Thu, 14 Aug 2025) EndedAt: 2025-08-14 17:50:09 -0400 (Thu, 14 Aug 2025) EllapsedTime: 116.0 seconds RetCode: 0 Status: OK PackageFile: CAFE_1.44.0.tar.gz PackageFileSize: 4.631 MiB