Package: BumpyMatrix Version: 1.16.0 Command: /home/biocbuild/bbs-3.21-bioc/R/bin/R CMD INSTALL BumpyMatrix StartedAt: 2025-10-01 15:16:38 -0400 (Wed, 01 Oct 2025) EndedAt: 2025-10-01 15:16:51 -0400 (Wed, 01 Oct 2025) EllapsedTime: 13.3 seconds RetCode: 0 Status: OK