Package: BumpyMatrix Version: 1.16.0 Command: /home/biocbuild/bbs-3.21-bioc/R/bin/R CMD build --keep-empty-dirs --no-resave-data BumpyMatrix StartedAt: 2025-10-01 16:34:43 -0400 (Wed, 01 Oct 2025) EndedAt: 2025-10-01 16:35:05 -0400 (Wed, 01 Oct 2025) EllapsedTime: 22.0 seconds RetCode: 0 Status: OK PackageFile: BumpyMatrix_1.16.0.tar.gz PackageFileSize: 317.6 KiB