Package: BulkSignalR Version: 1.2.1 Command: /home/biocbuild/R/R/bin/R CMD INSTALL BulkSignalR StartedAt: 2025-11-13 22:08:47 -0000 (Thu, 13 Nov 2025) EndedAt: 2025-11-13 22:09:57 -0000 (Thu, 13 Nov 2025) EllapsedTime: 70.4 seconds RetCode: 0 Status: OK