Package: BulkSignalR Version: 1.2.1 Command: /home/biocbuild/R/R/bin/R CMD build --keep-empty-dirs --no-resave-data BulkSignalR StartedAt: 2025-11-14 00:13:41 -0000 (Fri, 14 Nov 2025) EndedAt: 2025-11-14 00:19:27 -0000 (Fri, 14 Nov 2025) EllapsedTime: 345.1 seconds RetCode: 0 Status: OK PackageFile: BulkSignalR_1.2.1.tar.gz PackageFileSize: 2.676 MiB