Package: BulkSignalR Version: 1.2.1 Command: /Library/Frameworks/R.framework/Resources/bin/R CMD INSTALL BulkSignalR StartedAt: 2025-11-17 18:54:37 -0500 (Mon, 17 Nov 2025) EndedAt: 2025-11-17 18:56:43 -0500 (Mon, 17 Nov 2025) EllapsedTime: 126.5 seconds RetCode: 0 Status: OK