Package: BulkSignalR Version: 1.2.1 Command: /Library/Frameworks/R.framework/Resources/bin/R CMD build --keep-empty-dirs --no-resave-data BulkSignalR StartedAt: 2025-11-17 20:49:40 -0500 (Mon, 17 Nov 2025) EndedAt: 2025-11-17 20:58:31 -0500 (Mon, 17 Nov 2025) EllapsedTime: 531.1 seconds RetCode: 0 Status: OK PackageFile: BulkSignalR_1.2.1.tar.gz PackageFileSize: 3.073 MiB