Package: BulkSignalR Version: 1.2.1 Command: rm -rf BulkSignalR.buildbin-libdir && mkdir BulkSignalR.buildbin-libdir && /Users/biocbuild/BBS/utils/build-universal.sh BulkSignalR_1.2.1.tar.gz /Library/Frameworks/R.framework/Resources/bin/R BulkSignalR.buildbin-libdir StartedAt: 2025-11-18 17:16:57 -0500 (Tue, 18 Nov 2025) EndedAt: 2025-11-18 17:18:45 -0500 (Tue, 18 Nov 2025) EllapsedTime: 107.1 seconds RetCode: 0 Status: OK PackageFile: BulkSignalR_1.2.1.tgz PackageFileSize: 4.019 MiB