Package: BulkSignalR Version: 1.2.0 Command: /Library/Frameworks/R.framework/Resources/bin/R CMD INSTALL BulkSignalR StartedAt: 2025-11-03 15:52:16 -0500 (Mon, 03 Nov 2025) EndedAt: 2025-11-03 15:53:22 -0500 (Mon, 03 Nov 2025) EllapsedTime: 65.7 seconds RetCode: 0 Status: OK