Package: BulkSignalR Version: 1.2.0 Command: /Library/Frameworks/R.framework/Resources/bin/R CMD build --keep-empty-dirs --no-resave-data BulkSignalR StartedAt: 2025-11-03 16:19:01 -0500 (Mon, 03 Nov 2025) EndedAt: 2025-11-03 16:23:29 -0500 (Mon, 03 Nov 2025) EllapsedTime: 267.2 seconds RetCode: 0 Status: OK PackageFile: BulkSignalR_1.2.0.tar.gz PackageFileSize: 3.076 MiB