Package: BulkSignalR Version: 1.2.0 Command: rm -rf BulkSignalR.buildbin-libdir && mkdir BulkSignalR.buildbin-libdir && /Users/biocbuild/BBS/utils/build-universal.sh BulkSignalR_1.2.0.tar.gz /Library/Frameworks/R.framework/Resources/bin/R BulkSignalR.buildbin-libdir StartedAt: 2025-11-04 01:30:44 -0500 (Tue, 04 Nov 2025) EndedAt: 2025-11-04 01:31:53 -0500 (Tue, 04 Nov 2025) EllapsedTime: 69.6 seconds RetCode: 0 Status: OK PackageFile: BulkSignalR_1.2.0.tgz PackageFileSize: 4.01 MiB