Package: BulkSignalR Version: 1.0.5 Command: /home/biocbuild/R/R/bin/R CMD INSTALL BulkSignalR StartedAt: 2025-10-13 21:17:14 -0000 (Mon, 13 Oct 2025) EndedAt: 2025-10-13 21:18:23 -0000 (Mon, 13 Oct 2025) EllapsedTime: 69.7 seconds RetCode: 0 Status: OK