Package: BulkSignalR Version: 1.0.5 Command: /home/biocbuild/R/R/bin/R CMD build --keep-empty-dirs --no-resave-data BulkSignalR StartedAt: 2025-10-13 23:17:19 -0000 (Mon, 13 Oct 2025) EndedAt: 2025-10-13 23:23:18 -0000 (Mon, 13 Oct 2025) EllapsedTime: 359.1 seconds RetCode: 0 Status: OK PackageFile: BulkSignalR_1.0.5.tar.gz PackageFileSize: 2.95 MiB