Package: BulkSignalR Version: 1.2.1 Maintainer: Jean-Philippe Villemin MaintainerEmail: jpvillemin at gmail.com git_url: https://git.bioconductor.org/packages/BulkSignalR git_branch: RELEASE_3_22 git_last_commit: 68e85a5 git_last_commit_date: 2025-11-08 17:25:11 -0500 (Sat, 08 Nov 2025)