Package: BufferedMatrix Version: 1.72.0 Command: /Library/Frameworks/R.framework/Resources/bin/R CMD check --install=check:BufferedMatrix.install-out.txt --library=/Library/Frameworks/R.framework/Resources/library --no-vignettes --timings BufferedMatrix_1.72.0.tar.gz StartedAt: 2025-05-20 00:38:01 -0400 (Tue, 20 May 2025) EndedAt: 2025-05-20 00:39:25 -0400 (Tue, 20 May 2025) EllapsedTime: 84.0 seconds RetCode: 0 Status: WARNINGS CheckDir: BufferedMatrix.Rcheck Warnings: 1