Package: BufferedMatrix Version: 1.72.0 Command: rm -rf BufferedMatrix.buildbin-libdir && mkdir BufferedMatrix.buildbin-libdir && /Users/biocbuild/BBS/utils/build-universal.sh BufferedMatrix_1.72.0.tar.gz /Library/Frameworks/R.framework/Resources/bin/R BufferedMatrix.buildbin-libdir StartedAt: 2025-05-20 12:44:31 -0400 (Tue, 20 May 2025) EndedAt: 2025-05-20 12:44:48 -0400 (Tue, 20 May 2025) EllapsedTime: 16.6 seconds RetCode: 0 Status: OK PackageFile: BufferedMatrix_1.72.0.tgz PackageFileSize: 708 KiB