Package: BubbleTree Version: 2.38.0 Command: /home/biocbuild/bbs-3.21-bioc/R/bin/R CMD INSTALL BubbleTree StartedAt: 2025-10-08 15:43:20 -0400 (Wed, 08 Oct 2025) EndedAt: 2025-10-08 15:44:11 -0400 (Wed, 08 Oct 2025) EllapsedTime: 51.1 seconds RetCode: 0 Status: OK