Package: BubbleTree Version: 2.38.0 Command: /home/biocbuild/bbs-3.21-bioc/R/bin/R CMD build --keep-empty-dirs --no-resave-data BubbleTree StartedAt: 2025-10-08 16:32:13 -0400 (Wed, 08 Oct 2025) EndedAt: 2025-10-08 16:33:29 -0400 (Wed, 08 Oct 2025) EllapsedTime: 76.1 seconds RetCode: 1 Status: ERROR PackageFile: None PackageFileSize: NA