Package: BubbleTree Version: 2.38.0 Command: /home/biocbuild/R/R/bin/R CMD check --install=check:BubbleTree.install-out.txt --library=/home/biocbuild/R/R/site-library --no-vignettes --timings BubbleTree_2.38.0.tar.gz StartedAt: 2025-05-13 06:37:12 -0000 (Tue, 13 May 2025) EndedAt: 2025-05-13 06:45:00 -0000 (Tue, 13 May 2025) EllapsedTime: 467.3 seconds RetCode: 0 Status: OK CheckDir: BubbleTree.Rcheck Warnings: 0