Package: BubbleTree Version: 2.38.0 Command: /Library/Frameworks/R.framework/Resources/bin/R CMD build --keep-empty-dirs --no-resave-data BubbleTree StartedAt: 2025-05-15 20:04:08 -0400 (Thu, 15 May 2025) EndedAt: 2025-05-15 20:07:04 -0400 (Thu, 15 May 2025) EllapsedTime: 176.2 seconds RetCode: 0 Status: OK PackageFile: BubbleTree_2.38.0.tar.gz PackageFileSize: 27.91 MiB