Package: BrowserViz Version: 2.30.0 Maintainer: Arkadiusz Gladki MaintainerEmail: gladki.arkadiusz at gmail.com git_url: https://git.bioconductor.org/packages/BrowserViz git_branch: RELEASE_3_21 git_last_commit: a71a830 git_last_commit_date: 2025-04-15 10:48:33 -0400 (Tue, 15 Apr 2025)