Package: BloodGen3Module Version: 1.16.0 Command: /home/biocbuild/bbs-3.21-bioc/R/bin/R CMD INSTALL BloodGen3Module StartedAt: 2025-10-08 15:26:42 -0400 (Wed, 08 Oct 2025) EndedAt: 2025-10-08 15:27:14 -0400 (Wed, 08 Oct 2025) EllapsedTime: 32.0 seconds RetCode: 0 Status: OK