Package: BloodGen3Module Version: 1.16.0 Command: /Library/Frameworks/R.framework/Resources/bin/R CMD check --install=check:BloodGen3Module.install-out.txt --library=/Library/Frameworks/R.framework/Resources/library --no-vignettes --timings BloodGen3Module_1.16.0.tar.gz StartedAt: 2025-05-06 00:32:20 -0400 (Tue, 06 May 2025) EndedAt: 2025-05-06 00:41:48 -0400 (Tue, 06 May 2025) EllapsedTime: 568.2 seconds RetCode: 0 Status: WARNINGS CheckDir: BloodGen3Module.Rcheck Warnings: 1