Package: BloodGen3Module Version: 1.16.0 Command: /Library/Frameworks/R.framework/Resources/bin/R CMD build --keep-empty-dirs --no-resave-data BloodGen3Module StartedAt: 2025-05-05 17:26:29 -0400 (Mon, 05 May 2025) EndedAt: 2025-05-05 17:28:52 -0400 (Mon, 05 May 2025) EllapsedTime: 143.2 seconds RetCode: 0 Status: OK PackageFile: BloodGen3Module_1.16.0.tar.gz PackageFileSize: 178.8 KiB