Package: BloodGen3Module Version: 1.16.0 Command: /home/biocbuild/R/R/bin/R CMD INSTALL BloodGen3Module StartedAt: 2025-05-19 20:40:14 -0000 (Mon, 19 May 2025) EndedAt: 2025-05-19 20:41:00 -0000 (Mon, 19 May 2025) EllapsedTime: 45.5 seconds RetCode: 0 Status: OK