Package: BloodGen3Module Version: 1.16.0 Command: rm -rf BloodGen3Module.buildbin-libdir && mkdir BloodGen3Module.buildbin-libdir && /Users/biocbuild/BBS/utils/build-universal.sh BloodGen3Module_1.16.0.tar.gz /Library/Frameworks/R.framework/Resources/bin/R BloodGen3Module.buildbin-libdir StartedAt: 2025-05-24 14:44:02 -0400 (Sat, 24 May 2025) EndedAt: 2025-05-24 14:44:43 -0400 (Sat, 24 May 2025) EllapsedTime: 41.5 seconds RetCode: 0 Status: OK PackageFile: BloodGen3Module_1.16.0.tgz PackageFileSize: 240.4 KiB