Package: BiocWorkflowTools Version: 1.34.0 Command: /home/biocbuild/bbs-3.21-bioc/R/bin/R CMD build --keep-empty-dirs --no-resave-data BiocWorkflowTools StartedAt: 2025-10-15 16:26:44 -0400 (Wed, 15 Oct 2025) EndedAt: 2025-10-15 16:26:50 -0400 (Wed, 15 Oct 2025) EllapsedTime: 6.0 seconds RetCode: 0 Status: OK PackageFile: BiocWorkflowTools_1.34.0.tar.gz PackageFileSize: 974.9 KiB