Package: BiocVersion Version: 3.20.0 Command: /home/biocbuild/R/R/bin/R CMD INSTALL BiocVersion StartedAt: 2025-02-03 20:22:01 -0000 (Mon, 03 Feb 2025) EndedAt: 2025-02-03 20:22:05 -0000 (Mon, 03 Feb 2025) EllapsedTime: 3.9 seconds RetCode: 0 Status: OK