Package: BiocVersion Version: 3.20.0 Command: /home/biocbuild/R/R/bin/R CMD build --keep-empty-dirs --no-resave-data BiocVersion StartedAt: 2025-02-03 22:04:28 -0000 (Mon, 03 Feb 2025) EndedAt: 2025-02-03 22:04:29 -0000 (Mon, 03 Feb 2025) EllapsedTime: 1.0 seconds RetCode: 0 Status: OK PackageFile: BiocVersion_3.20.0.tar.gz PackageFileSize: 996 bytes