Package: BiocStyle Version: 2.36.0 Command: /Library/Frameworks/R.framework/Resources/bin/R CMD INSTALL BiocStyle StartedAt: 2025-05-08 15:10:43 -0400 (Thu, 08 May 2025) EndedAt: 2025-05-08 15:11:56 -0400 (Thu, 08 May 2025) EllapsedTime: 73.1 seconds RetCode: 0 Status: OK