Package: BiocStyle Version: 2.36.0 Command: rm -rf BiocStyle.buildbin-libdir && mkdir BiocStyle.buildbin-libdir && /Users/biocbuild/BBS/utils/build-universal.sh BiocStyle_2.36.0.tar.gz /Library/Frameworks/R.framework/Resources/bin/R BiocStyle.buildbin-libdir StartedAt: 2025-05-09 11:55:49 -0400 (Fri, 09 May 2025) EndedAt: 2025-05-09 11:55:58 -0400 (Fri, 09 May 2025) EllapsedTime: 9.1 seconds RetCode: 0 Status: OK PackageFile: BiocStyle_2.36.0.tgz PackageFileSize: 830.4 KiB