Package: BiocStyle Version: 2.36.0 Command: /Library/Frameworks/R.framework/Resources/bin/R CMD INSTALL BiocStyle StartedAt: 2025-05-12 15:15:15 -0400 (Mon, 12 May 2025) EndedAt: 2025-05-12 15:15:28 -0400 (Mon, 12 May 2025) EllapsedTime: 13.3 seconds RetCode: 0 Status: OK