Package: BiocStyle Version: 2.36.0 Command: /Library/Frameworks/R.framework/Resources/bin/R CMD build --keep-empty-dirs --no-resave-data BiocStyle StartedAt: 2025-05-12 19:47:16 -0400 (Mon, 12 May 2025) EndedAt: 2025-05-12 19:47:34 -0400 (Mon, 12 May 2025) EllapsedTime: 18.2 seconds RetCode: 0 Status: OK PackageFile: BiocStyle_2.36.0.tar.gz PackageFileSize: 771 KiB