Package: BiocSklearn Version: 1.28.0 Command: /home/biocbuild/R/R/bin/R CMD check --install=check:BiocSklearn.install-out.txt --library=/home/biocbuild/R/R/site-library --no-vignettes --timings BiocSklearn_1.28.0.tar.gz StartedAt: 2025-01-31 04:12:32 -0000 (Fri, 31 Jan 2025) EndedAt: 2025-01-31 04:24:27 -0000 (Fri, 31 Jan 2025) EllapsedTime: 714.5 seconds RetCode: 0 Status: OK CheckDir: BiocSklearn.Rcheck Warnings: 0