Package: BiocSklearn Version: 1.30.0 Command: chmod a+r BiocSklearn -R && E:\biocbuild\bbs-3.21-bioc\R\bin\R.exe CMD build --keep-empty-dirs --no-resave-data BiocSklearn StartedAt: 2025-08-14 17:39:34 -0400 (Thu, 14 Aug 2025) EndedAt: 2025-08-14 17:42:22 -0400 (Thu, 14 Aug 2025) EllapsedTime: 168.7 seconds RetCode: 0 Status: OK PackageFile: BiocSklearn_1.30.0.tar.gz PackageFileSize: 32.52 MiB