Package: BiocSklearn Version: 1.30.0 Command: rm -rf BiocSklearn.buildbin-libdir && mkdir BiocSklearn.buildbin-libdir && E:\biocbuild\bbs-3.21-bioc\R\bin\R.exe CMD INSTALL --build --library=BiocSklearn.buildbin-libdir BiocSklearn_1.30.0.tar.gz StartedAt: 2025-08-15 08:51:23 -0400 (Fri, 15 Aug 2025) EndedAt: 2025-08-15 08:52:07 -0400 (Fri, 15 Aug 2025) EllapsedTime: 43.2 seconds RetCode: 0 Status: OK PackageFile: BiocSklearn_1.30.0.zip PackageFileSize: 32.74 MiB