Package: BiocSklearn Version: 1.30.0 Maintainer: Vince Carey MaintainerEmail: stvjc at channing.harvard.edu git_url: https://git.bioconductor.org/packages/BiocSklearn git_branch: RELEASE_3_21 git_last_commit: 3d38545 git_last_commit_date: 2025-04-15 11:13:00 -0400 (Tue, 15 Apr 2025)