Package: BiocSingular Version: 1.22.0 Command: /home/biocbuild/R/R/bin/R CMD check --install=check:BiocSingular.install-out.txt --library=/home/biocbuild/R/R/site-library --no-vignettes --timings BiocSingular_1.22.0.tar.gz StartedAt: 2025-01-31 04:12:28 -0000 (Fri, 31 Jan 2025) EndedAt: 2025-01-31 04:24:30 -0000 (Fri, 31 Jan 2025) EllapsedTime: 721.6 seconds RetCode: 0 Status: OK CheckDir: BiocSingular.Rcheck Warnings: 0