Package: BiocSingular Version: 1.24.0 Command: chmod a+r BiocSingular -R && E:\biocbuild\bbs-3.21-bioc\R\bin\R.exe CMD build --keep-empty-dirs --no-resave-data BiocSingular StartedAt: 2025-08-14 17:39:32 -0400 (Thu, 14 Aug 2025) EndedAt: 2025-08-14 17:41:24 -0400 (Thu, 14 Aug 2025) EllapsedTime: 112.0 seconds RetCode: 0 Status: OK PackageFile: BiocSingular_1.24.0.tar.gz PackageFileSize: 602.5 KiB