Package: BiocSingular Version: 1.24.0 Maintainer: Aaron Lun MaintainerEmail: infinite.monkeys.with.keyboards at gmail.com git_url: https://git.bioconductor.org/packages/BiocSingular git_branch: RELEASE_3_21 git_last_commit: 46b298e git_last_commit_date: 2025-04-15 11:41:16 -0400 (Tue, 15 Apr 2025)