Package: BiocSet Version: 1.20.0 Command: chmod a+r BiocSet -R && F:\biocbuild\bbs-3.20-bioc\R\bin\R.exe CMD build --keep-empty-dirs --no-resave-data BiocSet StartedAt: 2025-02-03 17:46:12 -0500 (Mon, 03 Feb 2025) EndedAt: 2025-02-03 17:51:03 -0500 (Mon, 03 Feb 2025) EllapsedTime: 290.9 seconds RetCode: 0 Status: OK PackageFile: BiocSet_1.20.0.tar.gz PackageFileSize: 359.5 KiB