Package: BiocSet Version: 1.22.0 Command: /Library/Frameworks/R.framework/Resources/bin/R CMD check --install=check:BiocSet.install-out.txt --library=/Library/Frameworks/R.framework/Resources/library --no-vignettes --timings BiocSet_1.22.0.tar.gz StartedAt: 2025-04-25 01:12:20 -0400 (Fri, 25 Apr 2025) EndedAt: 2025-04-25 01:25:15 -0400 (Fri, 25 Apr 2025) EllapsedTime: 775.0 seconds RetCode: 0 Status: OK CheckDir: BiocSet.Rcheck Warnings: 0