Package: BiocSet Version: 1.20.0 Command: rm -rf BiocSet.buildbin-libdir && mkdir BiocSet.buildbin-libdir && /Users/biocbuild/BBS/utils/build-universal.sh BiocSet_1.20.0.tar.gz /Library/Frameworks/R.framework/Resources/bin/R BiocSet.buildbin-libdir StartedAt: 2025-01-31 12:24:25 -0500 (Fri, 31 Jan 2025) EndedAt: 2025-01-31 12:25:04 -0500 (Fri, 31 Jan 2025) EllapsedTime: 39.3 seconds RetCode: 0 Status: OK PackageFile: BiocSet_1.20.0.tgz PackageFileSize: 778.1 KiB