Package: BiocSet Version: 1.20.0 Command: /Library/Frameworks/R.framework/Resources/bin/R CMD INSTALL BiocSet StartedAt: 2024-11-19 15:15:20 -0500 (Tue, 19 Nov 2024) EndedAt: 2024-11-19 15:15:44 -0500 (Tue, 19 Nov 2024) EllapsedTime: 23.9 seconds RetCode: 0 Status: OK