Package: BiocSet Version: 1.20.0 Command: rm -rf BiocSet.buildbin-libdir && mkdir BiocSet.buildbin-libdir && /Users/biocbuild/BBS/utils/build-universal.sh BiocSet_1.20.0.tar.gz /Library/Frameworks/R.framework/Resources/bin/R BiocSet.buildbin-libdir StartedAt: 2025-02-01 14:04:00 -0500 (Sat, 01 Feb 2025) EndedAt: 2025-02-01 14:04:21 -0500 (Sat, 01 Feb 2025) EllapsedTime: 20.5 seconds RetCode: 0 Status: OK PackageFile: BiocSet_1.20.0.tgz PackageFileSize: 777.9 KiB