Package: BiocPkgTools Version: 1.26.2 Command: /Library/Frameworks/R.framework/Resources/bin/R CMD INSTALL BiocPkgTools StartedAt: 2025-05-15 15:34:59 -0400 (Thu, 15 May 2025) EndedAt: 2025-05-15 15:35:10 -0400 (Thu, 15 May 2025) EllapsedTime: 11.4 seconds RetCode: 0 Status: OK